BEGIN:VCALENDAR
VERSION:2.0
PRODID:-//Wienhoff Drug Testing - ECPv6.15.20//NONSGML v1.0//EN
CALSCALE:GREGORIAN
METHOD:PUBLISH
X-WR-CALNAME:Wienhoff Drug Testing
X-ORIGINAL-URL:https://wienhoffdrug.com
X-WR-CALDESC:Events for Wienhoff Drug Testing
REFRESH-INTERVAL;VALUE=DURATION:PT1H
X-Robots-Tag:noindex
X-PUBLISHED-TTL:PT1H
BEGIN:VTIMEZONE
TZID:America/Boise
BEGIN:DAYLIGHT
TZOFFSETFROM:-0700
TZOFFSETTO:-0600
TZNAME:MDT
DTSTART:20200308T090000
END:DAYLIGHT
BEGIN:STANDARD
TZOFFSETFROM:-0600
TZOFFSETTO:-0700
TZNAME:MST
DTSTART:20201101T080000
END:STANDARD
BEGIN:DAYLIGHT
TZOFFSETFROM:-0700
TZOFFSETTO:-0600
TZNAME:MDT
DTSTART:20210314T090000
END:DAYLIGHT
BEGIN:STANDARD
TZOFFSETFROM:-0600
TZOFFSETTO:-0700
TZNAME:MST
DTSTART:20211107T080000
END:STANDARD
BEGIN:DAYLIGHT
TZOFFSETFROM:-0700
TZOFFSETTO:-0600
TZNAME:MDT
DTSTART:20220313T090000
END:DAYLIGHT
BEGIN:STANDARD
TZOFFSETFROM:-0600
TZOFFSETTO:-0700
TZNAME:MST
DTSTART:20221106T080000
END:STANDARD
END:VTIMEZONE
BEGIN:VTIMEZONE
TZID:America/Denver
BEGIN:DAYLIGHT
TZOFFSETFROM:-0700
TZOFFSETTO:-0600
TZNAME:MDT
DTSTART:20200308T090000
END:DAYLIGHT
BEGIN:STANDARD
TZOFFSETFROM:-0600
TZOFFSETTO:-0700
TZNAME:MST
DTSTART:20201101T080000
END:STANDARD
BEGIN:DAYLIGHT
TZOFFSETFROM:-0700
TZOFFSETTO:-0600
TZNAME:MDT
DTSTART:20210314T090000
END:DAYLIGHT
BEGIN:STANDARD
TZOFFSETFROM:-0600
TZOFFSETTO:-0700
TZNAME:MST
DTSTART:20211107T080000
END:STANDARD
BEGIN:DAYLIGHT
TZOFFSETFROM:-0700
TZOFFSETTO:-0600
TZNAME:MDT
DTSTART:20220313T090000
END:DAYLIGHT
BEGIN:STANDARD
TZOFFSETFROM:-0600
TZOFFSETTO:-0700
TZNAME:MST
DTSTART:20221106T080000
END:STANDARD
END:VTIMEZONE
BEGIN:VEVENT
DTSTART;TZID=America/Boise:20210421T130000
DTEND;TZID=America/Boise:20210421T170000
DTSTAMP:20260422T192249
CREATED:20210405T202343Z
LAST-MODIFIED:20210415T032522Z
UID:2407-1619010000-1619024400@wienhoffdrug.com
SUMMARY:DER Training (Designated Employer Representative)
DESCRIPTION:Instructed by Colleen Wienhoff\, CEO of Wienhoff Drug Testing \n• Federal & State Rules and Regulations\n• The Role of the TPA (Third Party\nAdministrator)\n• FMCSA Clearinghouse\n• Drug & Alcohol Programs \n• The Role of the MRO\n• Record Retention for files\n• Lab Responsibilities\n• DER Responsibilities\n• MRO Responsibilities \nCost is $75 per attendee
URL:https://wienhoffdrug.com/event/training-1/
LOCATION:Online\, ID
END:VEVENT
BEGIN:VEVENT
DTSTART;TZID=America/Denver:20210421T090000
DTEND;TZID=America/Denver:20210421T120000
DTSTAMP:20260422T192249
CREATED:20210405T203830Z
LAST-MODIFIED:20210415T032409Z
UID:2418-1618995600-1619006400@wienhoffdrug.com
SUMMARY:Supervisor Training (DOT mandated)
DESCRIPTION:Instructor: Mike Kislia\, Chief Operating Officer – Wienhoff Drug Testing \nThis class is designed to help you meet Department of Transportation (DOT) compliance for your company and your own policy requirements. At the end of this course\, you will be able to know how and when to do reasonable suspicion testing on your employees and why you need to do it. \n• Clear definition and explanation of reasonable suspicion\n• The effects of alcohol and drugs in the workplace\n• The role of the supervisor in a DOT testing program \n• Signs\, symptoms\, and behavioral indicators of the DOT five prohibited drugs\n• What to do if your employee refuses to be tested\n• What to do when a supervisor receives hearsay information \nCost is $50 per attendee
URL:https://wienhoffdrug.com/event/midweek-training/
LOCATION:Online\, ID
END:VEVENT
BEGIN:VEVENT
DTSTART;TZID=America/Denver:20210420T100000
DTEND;TZID=America/Denver:20210420T113000
DTSTAMP:20260422T192249
CREATED:20210405T203605Z
LAST-MODIFIED:20210415T031345Z
UID:2415-1618912800-1618918200@wienhoffdrug.com
SUMMARY:DOT Employee Signs & Symptoms Training
DESCRIPTION:Instructor: Mike Kislia\, Operations Manager – Wienhoff Drug Testing \nThis class is designed to help employees understand the effects and consequences of prohibited drug use on personal\nhealth and the health of the company. We will discuss employee and employer rights and responsibilities\, post-accident\ntesting\, and refusals to test. \n  \nCost is $20 per attendee
URL:https://wienhoffdrug.com/event/recurring-online-training/
LOCATION:Online\, ID
END:VEVENT
END:VCALENDAR