BEGIN:VCALENDAR
VERSION:2.0
PRODID:-//Wienhoff Drug Testing - ECPv6.15.20//NONSGML v1.0//EN
CALSCALE:GREGORIAN
METHOD:PUBLISH
X-WR-CALNAME:Wienhoff Drug Testing
X-ORIGINAL-URL:https://wienhoffdrug.com
X-WR-CALDESC:Events for Wienhoff Drug Testing
REFRESH-INTERVAL;VALUE=DURATION:PT1H
X-Robots-Tag:noindex
X-PUBLISHED-TTL:PT1H
BEGIN:VTIMEZONE
TZID:America/Denver
BEGIN:DAYLIGHT
TZOFFSETFROM:-0700
TZOFFSETTO:-0600
TZNAME:MDT
DTSTART:20200308T090000
END:DAYLIGHT
BEGIN:STANDARD
TZOFFSETFROM:-0600
TZOFFSETTO:-0700
TZNAME:MST
DTSTART:20201101T080000
END:STANDARD
BEGIN:DAYLIGHT
TZOFFSETFROM:-0700
TZOFFSETTO:-0600
TZNAME:MDT
DTSTART:20210314T090000
END:DAYLIGHT
BEGIN:STANDARD
TZOFFSETFROM:-0600
TZOFFSETTO:-0700
TZNAME:MST
DTSTART:20211107T080000
END:STANDARD
BEGIN:DAYLIGHT
TZOFFSETFROM:-0700
TZOFFSETTO:-0600
TZNAME:MDT
DTSTART:20220313T090000
END:DAYLIGHT
BEGIN:STANDARD
TZOFFSETFROM:-0600
TZOFFSETTO:-0700
TZNAME:MST
DTSTART:20221106T080000
END:STANDARD
END:VTIMEZONE
BEGIN:VEVENT
DTSTART;TZID=America/Denver:20210420T100000
DTEND;TZID=America/Denver:20210420T113000
DTSTAMP:20260422T165536
CREATED:20210405T203605Z
LAST-MODIFIED:20210415T031345Z
UID:2415-1618912800-1618918200@wienhoffdrug.com
SUMMARY:DOT Employee Signs & Symptoms Training
DESCRIPTION:Instructor: Mike Kislia\, Operations Manager – Wienhoff Drug Testing \nThis class is designed to help employees understand the effects and consequences of prohibited drug use on personal\nhealth and the health of the company. We will discuss employee and employer rights and responsibilities\, post-accident\ntesting\, and refusals to test. \n  \nCost is $20 per attendee
URL:https://wienhoffdrug.com/event/recurring-online-training/
LOCATION:Online\, ID
END:VEVENT
END:VCALENDAR