BEGIN:VCALENDAR
VERSION:2.0
PRODID:-//Wienhoff Drug Testing - ECPv6.15.20//NONSGML v1.0//EN
CALSCALE:GREGORIAN
METHOD:PUBLISH
X-WR-CALNAME:Wienhoff Drug Testing
X-ORIGINAL-URL:https://wienhoffdrug.com
X-WR-CALDESC:Events for Wienhoff Drug Testing
REFRESH-INTERVAL;VALUE=DURATION:PT1H
X-Robots-Tag:noindex
X-PUBLISHED-TTL:PT1H
BEGIN:VTIMEZONE
TZID:America/Denver
BEGIN:DAYLIGHT
TZOFFSETFROM:-0700
TZOFFSETTO:-0600
TZNAME:MDT
DTSTART:20200308T090000
END:DAYLIGHT
BEGIN:STANDARD
TZOFFSETFROM:-0600
TZOFFSETTO:-0700
TZNAME:MST
DTSTART:20201101T080000
END:STANDARD
BEGIN:DAYLIGHT
TZOFFSETFROM:-0700
TZOFFSETTO:-0600
TZNAME:MDT
DTSTART:20210314T090000
END:DAYLIGHT
BEGIN:STANDARD
TZOFFSETFROM:-0600
TZOFFSETTO:-0700
TZNAME:MST
DTSTART:20211107T080000
END:STANDARD
BEGIN:DAYLIGHT
TZOFFSETFROM:-0700
TZOFFSETTO:-0600
TZNAME:MDT
DTSTART:20220313T090000
END:DAYLIGHT
BEGIN:STANDARD
TZOFFSETFROM:-0600
TZOFFSETTO:-0700
TZNAME:MST
DTSTART:20221106T080000
END:STANDARD
BEGIN:DAYLIGHT
TZOFFSETFROM:-0700
TZOFFSETTO:-0600
TZNAME:MDT
DTSTART:20230312T090000
END:DAYLIGHT
BEGIN:STANDARD
TZOFFSETFROM:-0600
TZOFFSETTO:-0700
TZNAME:MST
DTSTART:20231105T080000
END:STANDARD
END:VTIMEZONE
BEGIN:VTIMEZONE
TZID:America/Boise
BEGIN:DAYLIGHT
TZOFFSETFROM:-0700
TZOFFSETTO:-0600
TZNAME:MDT
DTSTART:20200308T090000
END:DAYLIGHT
BEGIN:STANDARD
TZOFFSETFROM:-0600
TZOFFSETTO:-0700
TZNAME:MST
DTSTART:20201101T080000
END:STANDARD
BEGIN:DAYLIGHT
TZOFFSETFROM:-0700
TZOFFSETTO:-0600
TZNAME:MDT
DTSTART:20210314T090000
END:DAYLIGHT
BEGIN:STANDARD
TZOFFSETFROM:-0600
TZOFFSETTO:-0700
TZNAME:MST
DTSTART:20211107T080000
END:STANDARD
BEGIN:DAYLIGHT
TZOFFSETFROM:-0700
TZOFFSETTO:-0600
TZNAME:MDT
DTSTART:20220313T090000
END:DAYLIGHT
BEGIN:STANDARD
TZOFFSETFROM:-0600
TZOFFSETTO:-0700
TZNAME:MST
DTSTART:20221106T080000
END:STANDARD
END:VTIMEZONE
BEGIN:VEVENT
DTSTART;TZID=America/Denver:20220608T090000
DTEND;TZID=America/Denver:20220608T120000
DTSTAMP:20260422T165708
CREATED:20220505T154913Z
LAST-MODIFIED:20220505T154913Z
UID:3726-1654678800-1654689600@wienhoffdrug.com
SUMMARY:Supervisor Training (DOT mandated)
DESCRIPTION:Instructor: Mike Kislia\, Chief Operating Officer – Wienhoff Drug Testing \nThis class is designed to help you meet Department of Transportation (DOT) compliance for your company and\nyour own policy requirements. At the end of this course\, you will be able to know how and when to do reasonable\nsuspicion testing on your employees and why you need to do it. \n\nClear definition and explanation of reasonable suspicion\nThe effects of alcohol and drugs in the workplace\nThe role of the supervisor in a DOT testing program\nSigns\, symptoms\, and behavior indicators of the DOT five prohibited drugs\nHow to determine patterns of deteriorating job performance\nWhat to do if your employee refuses to be tested\nWhat to do when a supervisor receives hearsay information\n\nCost is $50 per attendee
URL:https://wienhoffdrug.com/event/supervisor-training-dot-mandated-3/
LOCATION:Online\, ID
END:VEVENT
BEGIN:VEVENT
DTSTART;TZID=America/Denver:20220517T130000
DTEND;TZID=America/Denver:20220517T170000
DTSTAMP:20260422T165708
CREATED:20220505T155711Z
LAST-MODIFIED:20220505T155711Z
UID:3732-1652792400-1652806800@wienhoffdrug.com
SUMMARY:DER Training (Designated Employer Representative)
DESCRIPTION:Instructor: Colleen Wienhoff\, CEO of Wienhoff Drug Testing \nTopic include: \n\nFederal & State Rules and Regulations\nThe Role of the TPA (Third Party Administrator)\nFMCSA Clearinghouse\nDrug & Alcohol Programs\nThe Role of the MRO\nRecord Retention for files\nLab Responsibilities\nDER Responsibilities\nMRO Responsibilities
URL:https://wienhoffdrug.com/event/der-training-designated-employer-representative-6/
END:VEVENT
BEGIN:VEVENT
DTSTART;TZID=America/Denver:20220513T130000
DTEND;TZID=America/Denver:20220513T150000
DTSTAMP:20260422T165708
CREATED:20220505T155333Z
LAST-MODIFIED:20220505T155333Z
UID:3729-1652446800-1652454000@wienhoffdrug.com
SUMMARY:FMCSA Clearinghouse Webinar
DESCRIPTION:Instructor: Melody Paris\, Assistant Manager of Wienhoff Drug Testing \nThe FMCSA Clearinghouse is a secure online database of commercial driver’s license (CDL) and commercial learner’s permit (CLP) holders’ drug and alcohol program violations. The webinar will cover the history of the clearinghouse\, it’s purpose\, how to register\, queries\, and reporting violations. Additionally\, we will walk through the registration process for drivers and discuss the responsibilities of drivers regarding the Clearinghouse.
URL:https://wienhoffdrug.com/event/fmcsa-clearinghouse-webinar-5/
LOCATION:Online\, ID
END:VEVENT
BEGIN:VEVENT
DTSTART;TZID=America/Denver:20220510T090000
DTEND;TZID=America/Denver:20220510T120000
DTSTAMP:20260422T165708
CREATED:20220505T154446Z
LAST-MODIFIED:20220505T154446Z
UID:3722-1652173200-1652184000@wienhoffdrug.com
SUMMARY:Supervisor Training (DOT mandated)
DESCRIPTION:Instructor: Mike Kislia\, Chief Operating Officer – Wienhoff Drug Testing \nThis class is designed to help you meet Department of Transportation (DOT) compliance for your company and\nyour own policy requirements. At the end of this course\, you will be able to know how and when to do reasonable\nsuspicion testing on your employees and why you need to do it. \n\nClear definition and explanation of reasonable suspicion\nThe effects of alcohol and drugs in the workplace\nThe role of the supervisor in a DOT testing program\nSigns\, symptoms\, and behavior indicators of the DOT five prohibited drugs\nHow to determine patterns of deteriorating job performance\nWhat to do if your employee refuses to be tested\nWhat to do when a supervisor receives hearsay information\n\nCost is $50 per attendee
URL:https://wienhoffdrug.com/event/supervisor-training-dot-mandated-2/
LOCATION:Online\, ID
END:VEVENT
BEGIN:VEVENT
DTSTART;TZID=America/Denver:20220406T130000
DTEND;TZID=America/Denver:20220406T170000
DTSTAMP:20260422T165708
CREATED:20220222T191236Z
LAST-MODIFIED:20220222T191236Z
UID:3038-1649250000-1649264400@wienhoffdrug.com
SUMMARY:DER Training (Designated Employer Representative)
DESCRIPTION:Instructor: Colleen Wienhoff\, CEO of Wienhoff Drug Testing \nTopic include: \n\nFederal & State Rules and Regulations\nThe Role of the TPA (Third Party Administrator)\nFMCSA Clearinghouse\nDrug & Alcohol Programs\nThe Role of the MRO\nRecord Retention for files\nLab Responsibilities\nDER Responsibilities\nMRO Responsibilities
URL:https://wienhoffdrug.com/event/der-training-designated-employer-representative-5/
LOCATION:Online\, ID
END:VEVENT
BEGIN:VEVENT
DTSTART;TZID=America/Denver:20220331T130000
DTEND;TZID=America/Denver:20220331T150000
DTSTAMP:20260422T165708
CREATED:20220222T191049Z
LAST-MODIFIED:20220222T191049Z
UID:3035-1648731600-1648738800@wienhoffdrug.com
SUMMARY:FMCSA Clearinghouse Webinar
DESCRIPTION:Instructor: Melody Paris\, Assistant Manager of Wienhoff Drug Testing \nThe FMCSA Clearinghouse is a secure online database of commercial driver’s license (CDL) and commercial learner’s permit (CLP) holders’ drug and alcohol program violations. The webinar will cover the history of the clearinghouse\, it’s purpose\, how to register\, queries\, and reporting violations. Additionally\, we will walk through the registration process for drivers and discuss the responsibilities of drivers regarding the Clearinghouse.
URL:https://wienhoffdrug.com/event/fmcsa-clearinghouse-webinar-4/
LOCATION:Online\, ID
ORGANIZER;CN="Wienhoff Drug Testing":MAILTO:info@wienhoffdrug.com
END:VEVENT
BEGIN:VEVENT
DTSTART;TZID=America/Denver:20220309T090000
DTEND;TZID=America/Denver:20220309T120000
DTSTAMP:20260422T165708
CREATED:20220222T190855Z
LAST-MODIFIED:20220222T190855Z
UID:3032-1646816400-1646827200@wienhoffdrug.com
SUMMARY:Supervisor/Reasonable Suspicion Training
DESCRIPTION:Instructor: Mike Kislia\, COO of Wienhoff Drug Testing \nThis class is designed to help you meet Department of Transportation (DOT) compliance for your company and your own policy requirements.  At the end of this course\, you will be able to know how and when to do reasonable suspicion testing on your employees and why you need to do it. \n\nClear definition and explanation of reasonable suspicion\nThe effects of alcohol and drugs in the workplace\nThe role of the supervisor in a DOT testing program\nSigns\, symptoms\, and behavior indicators of the DOT five prohibited drugs\nWhat to do if your employee refuses to be tested\nWhat to do when a supervisor receives hearsay information
URL:https://wienhoffdrug.com/event/supervisor-reasonable-suspicion-training-3/
LOCATION:Online\, ID
ORGANIZER;CN="Wienhoff Drug Testing":MAILTO:info@wienhoffdrug.com
END:VEVENT
BEGIN:VEVENT
DTSTART;TZID=America/Denver:20220221T183000
DTEND;TZID=America/Denver:20220221T210000
DTSTAMP:20260422T165708
CREATED:20220112T235758Z
LAST-MODIFIED:20220117T201422Z
UID:2814-1645468200-1645477200@wienhoffdrug.com
SUMMARY:CPR/First Aid Class
DESCRIPTION:Get trained. Saved a life. \nThis online course will prepare you to provide help in emergencies. Understanding first aid will help you gain the ability to help those in need. This gives them the best opportunity for a positive outcome\, while giving you the opportunity to change their life and yours for the better. \nTrainer: Sarah Stone \nWienhoff Drug Testing provides CPR/First Aid Training classes in the our office or in yours. For more information\, please call us at 208-377-4063.
URL:https://wienhoffdrug.com/event/cpr-first-aid-class-3/
LOCATION:Boise Office\, 5153 N Glenwood St\, Boise\, 83714
END:VEVENT
BEGIN:VEVENT
DTSTART;TZID=America/Denver:20220126T130000
DTEND;TZID=America/Denver:20220126T170000
DTSTAMP:20260422T165708
CREATED:20220105T194329Z
LAST-MODIFIED:20220117T200731Z
UID:2776-1643202000-1643216400@wienhoffdrug.com
SUMMARY:DER Training (Designated Employer Representative)
DESCRIPTION:Instructor: Colleen Wienhoff\, CEO of Wienhoff Drug Testing \nTopic include: \n\nFederal & State Rules and Regulations\nThe Role of the TPA (Third Party Administrator)\nFMCSA Clearinghouse\nDrug & Alcohol Programs\nThe Role of the MRO\nRecord Retention for files\nLab Responsibilities\nDER Responsibilities\nMRO Responsibilities
URL:https://wienhoffdrug.com/event/der-training-designated-employer-representative-4/
LOCATION:Online\, ID
END:VEVENT
BEGIN:VEVENT
DTSTART;TZID=America/Denver:20220125T130000
DTEND;TZID=America/Denver:20220125T150000
DTSTAMP:20260422T165708
CREATED:20220105T194438Z
LAST-MODIFIED:20230119T164529Z
UID:2778-1643115600-1643122800@wienhoffdrug.com
SUMMARY:FMCSA Clearinghouse Webinar
DESCRIPTION:Instructor: Melody Paris\, Assistant Manager of Wienhoff Drug Testing \nThe FMCSA Clearinghouse is a secure online database of commercial driver’s license (CDL) and commercial learner’s permit (CLP) holders’ drug and alcohol program violations. The webinar will cover the history of the clearinghouse\, it’s purpose\, how to register\, queries\, and reporting violations. Additionally\, we will walk through the registration process for drivers and discuss the responsibilities of drivers regarding the Clearinghouse.
URL:https://wienhoffdrug.com/event/fmcsa-employer-clearinghouse-webinar/
LOCATION:Online\, ID
END:VEVENT
BEGIN:VEVENT
DTSTART;TZID=America/Denver:20220125T090000
DTEND;TZID=America/Denver:20220125T120000
DTSTAMP:20260422T165708
CREATED:20220105T194220Z
LAST-MODIFIED:20220117T201135Z
UID:2774-1643101200-1643112000@wienhoffdrug.com
SUMMARY:Supervisor/Reasonable Suspicion Training
DESCRIPTION:Instructor: Mike Kislia\, COO of Wienhoff Drug Testing \nThis class is designed to help you meet Department of Transportation (DOT) compliance for your company and your own policy requirements.  At the end of this course\, you will be able to know how and when to do reasonable suspicion testing on your employees and why you need to do it. \n\nClear definition and explanation of reasonable suspicion\nThe effects of alcohol and drugs in the workplace\nThe role of the supervisor in a DOT testing program\nSigns\, symptoms\, and behavior indicators of the DOT five prohibited drugs\nWhat to do if your employee refuses to be tested\nWhat to do when a supervisor receives hearsay information
URL:https://wienhoffdrug.com/event/supervisor-reasonable-suspicion-training-2/
LOCATION:Online\, ID
END:VEVENT
BEGIN:VEVENT
DTSTART;TZID=America/Denver:20220117T183000
DTEND;TZID=America/Denver:20220117T210000
DTSTAMP:20260422T165708
CREATED:20220112T234434Z
LAST-MODIFIED:20220117T224605Z
UID:2810-1642444200-1642453200@wienhoffdrug.com
SUMMARY:CPR/First Aid Class - CANCELED
DESCRIPTION:Get trained. Saved a life. \nThis online course will prepare you to provide help in emergencies. Understanding first aid will help you gain the ability to help those in need. This gives them the best opportunity for a positive outcome\, while giving you the opportunity to change their life and yours for the better. \nTrainer: Sarah Stone \nWienhoff Drug Testing provides CPR/First Aid Training classes in the our office or in yours. For more information\, please call us at 208-377-4063.
URL:https://wienhoffdrug.com/event/cpr-first-aid-class-2/
LOCATION:Boise Office\, 5153 N Glenwood St\, Boise\, 83714
END:VEVENT
BEGIN:VEVENT
DTSTART;VALUE=DATE:20211231
DTEND;VALUE=DATE:20220101
DTSTAMP:20260422T165708
CREATED:20211118T010101Z
LAST-MODIFIED:20211118T010101Z
UID:2700-1640908800-1640995199@wienhoffdrug.com
SUMMARY:Offices Closed - Happy New Years!
DESCRIPTION:
URL:https://wienhoffdrug.com/event/offices-closed-happy-new-years/
END:VEVENT
BEGIN:VEVENT
DTSTART;VALUE=DATE:20211224
DTEND;VALUE=DATE:20211225
DTSTAMP:20260422T165708
CREATED:20211118T010005Z
LAST-MODIFIED:20211118T010005Z
UID:2697-1640304000-1640390399@wienhoffdrug.com
SUMMARY:Offices Closed - Merry Christmas!
DESCRIPTION:
URL:https://wienhoffdrug.com/event/offices-closed-merry-christmas/
END:VEVENT
BEGIN:VEVENT
DTSTART;TZID=America/Denver:20211216T130000
DTEND;TZID=America/Denver:20211216T170000
DTSTAMP:20260422T165708
CREATED:20211118T005622Z
LAST-MODIFIED:20211118T005820Z
UID:2692-1639659600-1639674000@wienhoffdrug.com
SUMMARY:DER Training (Designated Employer Representative)
DESCRIPTION:Instructor: Colleen Wienhoff\, CEO of Wienhoff Drug Testing \nTopic include: \n\nFederal & State Rules and Regulations\nThe Role of the TPA (Third Party Administrator)\nFMCSA Clearinghouse\nDrug & Alcohol Programs\nThe Role of the MRO\nRecord Retention for files\nLab Responsibilities\nDER Responsibilities\nMRO Responsibilities
URL:https://wienhoffdrug.com/event/der-training-designated-employer-representative-3/
LOCATION:Online\, ID
END:VEVENT
BEGIN:VEVENT
DTSTART;TZID=America/Denver:20211216T090000
DTEND;TZID=America/Denver:20211216T120000
DTSTAMP:20260422T165708
CREATED:20211116T175036Z
LAST-MODIFIED:20211116T175056Z
UID:2687-1639645200-1639656000@wienhoffdrug.com
SUMMARY:Supervisor Training
DESCRIPTION:Instructor: Mike Kislia\, COO of Wienhoff Drug Testing \nThis class is designed to help you meet Department of Transportation (DOT) compliance for your company and your own policy requirements.  At the end of this course\, you will be able to know how and when to do reasonable suspicion testing on your employees and why you need to do it. \n\nClear definition and explanation of reasonable suspicion\nThe effects of alcohol and drugs in the workplace\nThe role of the supervisor in a DOT testing program\nSigns\, symptoms\, and behavior indicators of the DOT five prohibited drugs\nWhat to do if your employee refuses to be tested\nWhat to do when a supervisor receives hearsay information
URL:https://wienhoffdrug.com/event/supervisor-training/
LOCATION:Online\, ID
END:VEVENT
BEGIN:VEVENT
DTSTART;VALUE=DATE:20211125
DTEND;VALUE=DATE:20211127
DTSTAMP:20260422T165708
CREATED:20211118T005918Z
LAST-MODIFIED:20211118T010027Z
UID:2695-1637798400-1637971199@wienhoffdrug.com
SUMMARY:Offices Closed - Happy Thanksgiving!
DESCRIPTION:
URL:https://wienhoffdrug.com/event/office-closed-happy-thanksgiving/
END:VEVENT
BEGIN:VEVENT
DTSTART;TZID=America/Denver:20211116T183000
DTEND;TZID=America/Denver:20211116T203000
DTSTAMP:20260422T165708
CREATED:20211006T170817Z
LAST-MODIFIED:20211006T173629Z
UID:2631-1637087400-1637094600@wienhoffdrug.com
SUMMARY:CPR/First Aid Class
DESCRIPTION:Get trained. Saved a life. \nThis online course will prepare you to provide help in emergencies. Understanding first aid will help you gain the ability to help those in need. This gives them the best opportunity for a positive outcome\, while giving you the opportunity to change their life and yours for the better. \nTrainer: Sarah Stone \nWienhoff Drug Testing provides CPR/First Aid Training classes in the our office or in yours. For more information\, please call us at 208-377-4063.
URL:https://wienhoffdrug.com/event/cpr-first-aid-class/
LOCATION:Boise Office\, 5153 N Glenwood St\, Boise\, 83714
ORGANIZER;CN="Wienhoff Drug Testing":MAILTO:info@wienhoffdrug.com
END:VEVENT
BEGIN:VEVENT
DTSTART;TZID=America/Denver:20211115T130000
DTEND;TZID=America/Denver:20211115T170000
DTSTAMP:20260422T165708
CREATED:20211104T214835Z
LAST-MODIFIED:20211104T214835Z
UID:2674-1636981200-1636995600@wienhoffdrug.com
SUMMARY:FAA DER (Designated Employer Representative) Training
DESCRIPTION:FAA DER Training (Designated Employer Representative): \n\nNew FAA rules and regulations will be discussed. That went into effect on August 9th.\nFederal & State Rules and Regulations\nThe Role of the TPA (Third Party Administrator)\nDrug & Alcohol Programs\nThe Role of the MRO\nRecord Retention for files\nLab Responsibilities\nDER Responsibilities\nMRO Responsibilities\n\nCost is $75 per attendee
URL:https://wienhoffdrug.com/event/faa-der-designated-employer-representative-training/
LOCATION:Online\, ID
END:VEVENT
BEGIN:VEVENT
DTSTART;TZID=America/Denver:20211111T143000
DTEND;TZID=America/Denver:20211111T150000
DTSTAMP:20260422T165708
CREATED:20210924T010046Z
LAST-MODIFIED:20210924T010046Z
UID:2595-1636641000-1636642800@wienhoffdrug.com
SUMMARY:FMCSA Driver Clearinghouse Set-Up
DESCRIPTION:Instructor: Melody Paris\, Assistant Manager of Wienhoff Drug Testing \nWe will walk through the registration process and discuss the responsibilities of drivers regarding the Clearinghouse. Have the driver in front of a computer with access to their email account.
URL:https://wienhoffdrug.com/event/fmcsa-driver-clearinghouse-set-up-3/
LOCATION:Online\, ID
ORGANIZER;CN="Wienhoff Drug Testing":MAILTO:info@wienhoffdrug.com
END:VEVENT
BEGIN:VEVENT
DTSTART;TZID=America/Denver:20211111T130000
DTEND;TZID=America/Denver:20211111T143000
DTSTAMP:20260422T165708
CREATED:20210924T005851Z
LAST-MODIFIED:20210924T010127Z
UID:2592-1636635600-1636641000@wienhoffdrug.com
SUMMARY:FMCSA Employer Clearinghouse Webinar
DESCRIPTION:Instructor: Melody Paris\, Assistant Manager of Wienhoff Drug Testing \nThe FMCSA Clearinghouse is a secure online database of commercial driver’s license (CDL) and commercial learner’s permit (CLP) holders’ drug and alcohol program violations. The webinar will cover the history of the clearinghouse\, it’s purpose\, how to register\, queries\, and reporting violations.
URL:https://wienhoffdrug.com/event/fmcsa-clearinghouse-webinar-3/
LOCATION:Online\, ID
ORGANIZER;CN="Wienhoff Drug Testing":MAILTO:info@wienhoffdrug.com
END:VEVENT
BEGIN:VEVENT
DTSTART;TZID=America/Denver:20211110T130000
DTEND;TZID=America/Denver:20211110T143000
DTSTAMP:20260422T165708
CREATED:20210924T005604Z
LAST-MODIFIED:20210924T005604Z
UID:2588-1636549200-1636554600@wienhoffdrug.com
SUMMARY:DOT Employee Signs & Symptoms Training
DESCRIPTION:Instructor: Mike Kislia\, COO of Wienhoff Drug Testing \n  \nThis class is designed to help employees understand the effects and consequences of prohibited drug use on personal health and the health of the company. We will discuss employee and employer rights and responsibilities\, post-accident testing\, and refusals to test.
URL:https://wienhoffdrug.com/event/dot-employee-signs-symptoms-training-2/
LOCATION:Online\, ID
ORGANIZER;CN="Wienhoff Drug Testing":MAILTO:info@wienhoffdrug.com
END:VEVENT
BEGIN:VEVENT
DTSTART;TZID=America/Denver:20211110T090000
DTEND;TZID=America/Denver:20211110T120000
DTSTAMP:20260422T165708
CREATED:20210924T005323Z
LAST-MODIFIED:20210924T005639Z
UID:2585-1636534800-1636545600@wienhoffdrug.com
SUMMARY:Supervisor/Reasonable Suspicion Training
DESCRIPTION:Instructor: Mike Kislia\, COO of Wienhoff Drug Testing \nThis class is designed to help you meet Department of Transportation (DOT) compliance for your company and your own policy requirements.  At the end of this course\, you will be able to know how and when to do reasonable suspicion testing on your employees and why you need to do it. \n\nClear definition and explanation of reasonable suspicion\nThe effects of alcohol and drugs in the workplace\nThe role of the supervisor in a DOT testing program\nSigns\, symptoms\, and behavior indicators of the DOT five prohibited drugs\nWhat to do if your employee refuses to be tested\nWhat to do when a supervisor receives hearsay information\n\n 
URL:https://wienhoffdrug.com/event/supervisor-reasonable-suspicion-training/
LOCATION:Online\, ID
ORGANIZER;CN="Wienhoff Drug Testing":MAILTO:info@wienhoffdrug.com
END:VEVENT
BEGIN:VEVENT
DTSTART;TZID=America/Boise:20211104T130000
DTEND;TZID=America/Boise:20211104T170000
DTSTAMP:20260422T165708
CREATED:20210924T004701Z
LAST-MODIFIED:20210924T005036Z
UID:2578-1636030800-1636045200@wienhoffdrug.com
SUMMARY:DER Training (Designated Employer Representative)
DESCRIPTION:Instructor: Colleen Wienhoff\, CEO of Wienhoff Drug Testing \nTopic include: \n\nFederal & State Rules and Regulations\nThe Role of the TPA (Third Party Administrator)\nFMCSA Clearinghouse\nDrug & Alcohol Programs\nThe Role of the MRO\nRecord Retention for files\nLab Responsibilities\nDER Responsibilities\nMRO Responsibilities
URL:https://wienhoffdrug.com/event/der-training-designated-employer-representative-2/
LOCATION:Online\, ID
ORGANIZER;CN="Wienhoff Drug Testing":MAILTO:info@wienhoffdrug.com
END:VEVENT
BEGIN:VEVENT
DTSTART;TZID=America/Denver:20210921T130000
DTEND;TZID=America/Denver:20210921T170000
DTSTAMP:20260422T165708
CREATED:20210812T175741Z
LAST-MODIFIED:20210812T175741Z
UID:2538-1632229200-1632243600@wienhoffdrug.com
SUMMARY:DER Training (Designated Employer Representative)
DESCRIPTION:Instructed by Colleen Wienhoff\, CEO of Wienhoff Drug Testing \n• Federal & State Rules and Regulations\n• The Role of the TPA (Third Party\nAdministrator)\n• FMCSA Clearinghouse\n• Drug & Alcohol Programs \n• The Role of the MRO\n• Record Retention for files\n• Lab Responsibilities\n• DER Responsibilities\n• MRO Responsibilities \nCost is $75 per attendee
URL:https://wienhoffdrug.com/event/der-training-designated-employer-representative/
LOCATION:Online\, ID
ORGANIZER;CN="Wienhoff Drug Testing":MAILTO:info@wienhoffdrug.com
END:VEVENT
BEGIN:VEVENT
DTSTART;TZID=America/Denver:20210914T130000
DTEND;TZID=America/Denver:20210914T160000
DTSTAMP:20260422T165708
CREATED:20210728T184729Z
LAST-MODIFIED:20221111T051044Z
UID:2516-1631624400-1631635200@wienhoffdrug.com
SUMMARY:Supervisor Training (DOT mandated)
DESCRIPTION:Instructor: Mike Kislia\, Chief Operating Officer – Wienhoff Drug Testing \nThis class is designed to help you meet Department of Transportation (DOT) compliance for your company and your own policy requirements. At the end of this course\, you will be able to know https://jalanjalanaja.com/ how and when to do reasonable suspicion testing on your employees and why you need to do it. \n• Clear definition and explanation of reasonable suspicion\n• The effects of alcohol and drugs in the workplace\n• The role of the supervisor in a DOT testing program \n• Signs\, symptoms\, and behavioral indicators of the DOT five prohibited drugs\n• What to do if your employee refuses to be tested\n• What to do when a supervisor receives hearsay information \nCost is $50 per attendee
URL:https://wienhoffdrug.com/event/supervisor-training-dot-mandated/
LOCATION:Online\, ID
END:VEVENT
BEGIN:VEVENT
DTSTART;TZID=America/Denver:20210914T090000
DTEND;TZID=America/Denver:20210914T103000
DTSTAMP:20260422T165708
CREATED:20210728T182936Z
LAST-MODIFIED:20221128T031452Z
UID:2512-1631610000-1631615400@wienhoffdrug.com
SUMMARY:DOT Employee Signs & Symptoms Training
DESCRIPTION:Instructor: Mike Kislia\, Operations Manager – Wienhoff Drug Testing \nThis class is rtp slot designed to help employees https://www.pdzsoundtrack.com/ understand the effects https://yohanwibisono.com/ and consequences of prohibited http://www.callusdigital.org/ drug use on personal\nhealth and the health of the company. We will discuss employee and employer rights and responsibilities\, post-accident\ntesting\, and refusals http://www.livsmedlet.com/ to test. \n  \nCost is $20 per attendee
URL:https://wienhoffdrug.com/event/dot-employee-signs-symptoms-training/
LOCATION:Online\, ID
END:VEVENT
BEGIN:VEVENT
DTSTART;TZID=America/Denver:20210909T113000
DTEND;TZID=America/Denver:20210909T120000
DTSTAMP:20260422T165708
CREATED:20210728T180858Z
LAST-MODIFIED:20210728T180858Z
UID:2509-1631187000-1631188800@wienhoffdrug.com
SUMMARY:FMCSA DRIVER Clearinghouse Set-Up
DESCRIPTION:Instructor: Melody Paris\, Assistant Manager – Wienhoff Drug Testing \nWe will walk through the registration process and discuss the responsibilities of drivers regarding the Clearinghouse. Have the driver in front of a computer with access to their email account. \nRegistration is Free
URL:https://wienhoffdrug.com/event/fmcsa-driver-clearinghouse-set-up-2/
LOCATION:Online\, ID
END:VEVENT
BEGIN:VEVENT
DTSTART;TZID=America/Denver:20210909T100000
DTEND;TZID=America/Denver:20210909T113000
DTSTAMP:20260422T165708
CREATED:20210728T173803Z
LAST-MODIFIED:20210728T174138Z
UID:2505-1631181600-1631187000@wienhoffdrug.com
SUMMARY:FMCSA Clearinghouse Webinar
DESCRIPTION:Instructors: Colleen Wienhoff\, CEO and Melody Paris\, Assistant Manager – Wienhoff Drug Testing \nThe FMCSA Clearinghouse is a secure online database of commercial driver’s license (CDL) and commercial learner’s\npermit (CLP) holders’ drug and alcohol program violations. The webinar will cover the history of the clearinghouse\, it’s\npurpose\, how to register\, queries\, and reporting violations. \nRegistration is FREE
URL:https://wienhoffdrug.com/event/fmcsa-clearinghouse-webinar-2/
LOCATION:Online\, ID
END:VEVENT
BEGIN:VEVENT
DTSTART;TZID=America/Denver:20210901T120000
DTEND;TZID=America/Denver:20210901T170000
DTSTAMP:20260422T165708
CREATED:20210728T172236Z
LAST-MODIFIED:20210811T235154Z
UID:2502-1630497600-1630515600@wienhoffdrug.com
SUMMARY:DER (Designated Employer Representative)- Federal Aviation Administration Only
DESCRIPTION:Have you heard about the new FAA rules and regulations that go into effect on August 9th? Wienhoff Drug Testing is providing a FAA DER Training class to discuss these changes and much more. \n  \nFAA DER Training (Designated Employer Representative): \n  \n\nNew FAA rules and regulations will be discussed. They go into effect on August 9th.\nFederal & State Rules and Regulations\nThe Role of the TPA (Third Party Administrator)\nDrug & Alcohol Programs\nThe Role of the MRO\nRecord Retention for files\nLab Responsibilities\nDER Responsibilities\nMRO Responsibilities\n\nCost is $75 per attendee
URL:https://wienhoffdrug.com/event/der-designated-employer-representative-federal-aviation-administration-only-2/
LOCATION:Online\, ID
END:VEVENT
END:VCALENDAR